Workbook

Sheet 汇总表
A1: 珠海市斗门区市民服务中心信息化工程项目报价汇总表
A2: 序号 | B2: 类别 | D2: 报价（元） | E2: 备注
A3: 1 | B3: 建设费用 | C3: 硬件购置费用 | D3: =硬件购置!G233 -> 0
A4: 3 | C4: 硬件及基础软件集成费用 | D4: =硬件及基础软件集成!F3 -> 0
A5: 4 | C5: 系统开发费用 | D5: =系统开发!G21 -> 0
A6: 5 | C6: 租赁费用 | D6: ='(建设期+质保期)通讯链路和云资源租赁'!G7 -> 0
A7: 6 | C7: 智能转单服务租赁费用 | D7: =智能转单服务租赁!F3 -> 0
A8: 8 | B8: 建设费用合计 | D8: =SUM(D3:D7) -> 0

Sheet 硬件购置
A1: 硬件类别 | B1: 硬件名称 | C1: 投标品牌及型号 | D1: 配置参数 | E1: 数量 | F1: 单价(元) | G1: 小计(元) | H1: 备注
A2: 计算机网络 | B2: 600宽机柜 | D2: 尺寸(宽*深*高)≥600*1000*2000mm,平板网孔门，前门单开，后门双开、活动轮、支撑脚。 | E2: 34 | G2: =F2*E2 -> 0
A3: 计算机网络 | B3: 12口16A竖装PDU | D3: 1、电流：≥16A； 2、≥12位插座； 3、≥5米长3*4电源线； | E3: =E2*2 -> 68 | G3: =F3*E3 -> 0
A4: 计算机网络 | B4: 汇聚交换机 | D4: ▲1.交换容量≥1.36Tbps，包转发率≥420 Mpps 2.为了提高设备可靠性，支持模块化可插拔双电源； 3.48个千兆SFP光，4个万兆SFP+； 4.支持业务扩展插槽数≥1，扩展支持8个SFP+端口或4个40GE QSFP+端口； 5.配置标准USB接口，支持U盘快速开局； 6.支持MAC地址规格≥32K，支持ARP表项规格≥20000； 7.支持静态路由、RIP v1/v2、OSPF、BGP、ISIS、RIPng、OSPFv3、ISISv6、BGP4+； 8.支持Ipv4路由FIB表≥8K，Ipv6路由FIB表≥4K； 9.支持纵向虚拟化，作为纵向子节点零配置即插即用； 10.支持MACSec加密； 11.支持DHCPv6 Snooping，DAI，SAVI等安全特性； | E4: 2 | G4: =F4*E4 -> 0
A5: 计算机网络 | B5: 48口交换机 | D5: ▲1、交换容量≥6.72Tbps 2、包转发率≥207Mpps 3、48个10/100/1000BASE-T以太网端口，4 个千兆SFP，AC交流电源 4、ARP规格≥2K，ipv4路由规格≥3K，MAC表规格≥16K； 5、支持4K个VLAN，支持基于MAC/协议/IP子网/策略/端口的VLAN； 6、支持1:1和N:1 VLAN Mapping功能 7、支持 IPv4/IPv6 静态路由，支持基于 MAC/协议/IP 子网/策略/端口的 VLAN，支持 1:1 和N:1VLAN Mapping功能； 8、支持智能堆叠，将多台支持堆叠特性的交换机组合在一起，从逻辑上虚拟为一台交换机； 9、支持 MAC 地址认证、802.1x 认证、Portal 认证等多种安全认证方式，实现用户策略（VLAN、QoS、ACL）的动态下发。支持基于端口粒度的 dot1X、MAC 认证和混合认证；支持基于 VLANIF 接口粒度的 Portal 认证。 | E5: 57 | G5: =F5*E5 -> 0
A6: 计算机网络 | B6: 万兆光模块 | D6: 光模块-SFP+-10G-单模模块(1310nm,10km,LC) | E6: 8 | G6: =F6*E6 -> 0
A7: 计算机网络 | B7: 千兆光模块 | D7: 光模块-SFP-GE-单模模块(1310nm,10km,LC) | E7: =E5*4 -> 228 | G7: =F7*E7 -> 0
A8: 计算机网络 | B8: 24口配线架 | D8: 24口六类网络配线架；标准19英寸机架式安装，高度：1U； | E8: 120 | G8: =F8*E8 -> 0
A9: 计算机网络 | B9: 理线器 | D9: 标准19英寸机架式安装，高度：1U； 理线档位：上下各24档，带有贯穿孔，支持前后走线和多余线缆的存放； | E9: =E8+E4+E5 -> 179 | G9: =F9*E9 -> 0
A10: 计算机网络 | B10: 网络模块 | D10: 网络/电话，非屏蔽数据信息模块 | E10: =E11*2+E12 -> 2614 | G10: =F10*E10 -> 0
A11: 计算机网络 | B11: 双口网络面板 | D11: 面板：双口86型面板； 颜色：白色 | E11: 1057 | G11: =F11*E11 -> 0
A12: 计算机网络 | B12: 单口网络面板 | D12: 面板：单口86型面板； 颜色：白色 | E12: 500 | G12: =F12*E12 -> 0
A13: 计算机网络 | B13: 六类跳线 5米 | D13: 六类非屏蔽跳线5米 导体规格：多股绞合，软圆铜线，4对； 屏蔽方式: UTP； 护套材料：PVC，护套外径：6.0±0.3mm； | E13: =E10*2-E26 -> 4808 | G13: =F13*E13 -> 0
A14: 计算机网络 | B14: 六类跳线标签 | D14: 六类跳线标签 | E14: =E13 -> 4808 | G14: =F14*E14 -> 0
A15: 计算机网络 | B15: 光纤跳线 10米 | D15: 电信级LC-LC单模双芯，低烟无卤环保光纤线，10米 | E15: =E4*2 -> 4 | G15: =F15*E15 -> 0
A16: 计算机网络 | B16: 光纤跳线 3米 | D16: 电信级LC-LC单模双芯，低烟无卤环保光纤线，3米 | E16: =E7 -> 228 | G16: =F16*E16 -> 0
A17: 计算机网络 | B17: 光纤跳线标签 | D17: 光纤跳线标签 | E17: =(E16+E15)*2 -> 464 | G17: =F17*E17 -> 0
A18: 计算机网络 | B18: 六类非屏蔽双绞线 | D18: 六类4对非屏蔽低烟无卤电缆 | E18: =ROUND(2614*80,) -> 209120 | G18: =F18*E18 -> 0
A19: 计算机网络 | B19: 24芯光纤 | D19: 24芯单模光纤 | E19: =12*200 -> 2400 | G19: =F19*E19 -> 0
A20: 计算机网络 | B20: 24芯光纤配线架 | D20: 24芯光纤配线架 | E20: 10 | G20: =F20*E20 -> 0
A21: 计算机网络 | B21: 48芯光纤配线架 | D21: 安装方式：19″机架式安装； 含48芯LC耦合器和尾纤，耦合器和尾纤 | E21: 1 | G21: =F21*E21 -> 0
A22: 计算机网络 | B22: 96芯光纤配线架 | D22: 安装方式：19″机架式安装； 含96芯LC耦合器和尾纤，耦合器和尾纤 | E22: 3 | G22: =F22*E22 -> 0
A23: 计算机网络 | B23: 50对电缆 | D23: HYA 50×2×0.4 | E23: =9*150 -> 1350 | G23: =F23*E23 -> 0
A24: 计算机网络 | B24: 100对电缆 | D24: HYA 100×2×0.4 | E24: =2*150 -> 300 | G24: =F24*E24 -> 0
A25: 计算机网络 | B25: 110配线架 | D25: 标准19英寸机架式安装，高度：1U； 规格：100对，配20个5对连接块； | E25: 17 | G25: =F25*E25 -> 0
A26: 计算机网络 | B26: RJ45转RJ11线 | D26: RJ45转RJ11跳线6米 屏蔽方式: U/UTP；导体规格：1对； | E26: 420 | G26: =F26*E26 -> 0
A27: 计算机网络 | B27: RJ45转鸭嘴跳线 | D27: RJ45转鸭嘴跳线3米 屏蔽方式: U/UTP；导体规格：1对； | E27: 420 | G27: =F27*E27 -> 0
A28: 计算机网络 | B28: JDG25管 | D28: JDG25管 | E28: =2614*20 -> 52280 | G28: =F28*E28 -> 0
A29: 计算机网络 | B29: 镀锌线槽 | D29: 镀锌线槽，规格200mm*100mm，厚度1.5mm， | E29: =3*200+6*150 -> 1500 | G29: =F29*E29 -> 0
A30: 计算机网络 | B30: 布管布线辅材 | D30: 底盒、直通、三通、杯梳，直角弯头、码钉、扎带、电工胶布等 | E30: 1 | G30: =F30*E30 -> 0
A31: 业务运行设备 | B31: 取号机 | D31: 1. 触摸屏：32寸电容式触摸屏； 2. 显示器：32寸工业液晶显示器；显示尺寸： 32寸；屏幕比例：16:9；分辨率：1920*1080；刷新率：60Hz； 亮度：350cd/m2；水平可视角度：160度；垂直可视角度：160度；支持32位色显示; 3. 机 柜：机柜采用优质冷扎钢板/进口杜邦金属烤漆/功放/喇叭/网络接口/并可根据用户要求更改颜色和丝印图标; ▲4. 工控主机：≥4核国产处理器，主频≥2.3GHz；内存：≥4G ；硬盘：≥120G SSD 固态硬盘； 5. 热敏打印机(纸宽80MM*80MM)，打印速度大于80MM/秒。 6. 内置功放，喇叭；双声道立体电子音效，环绕功效、防磁设计； 7. 集成二代身份证阅读器，支持刷身份证取号功能；符合公安部 GA450标准规范，具有中国公共安全产品认证证书； 8.集成二维码扫描仪，支持扫码取号功能； 9.集成人脸识别摄像头，自然光和近红外光识别； 10.支持身份证、社保卡、外国人永久居住证等刷卡取号 | E31: 11 | G31: =F31*E31 -> 0
A32: 业务运行设备 | B32: 综合显示屏 | D32: 高清显示：屏体采用工业级液晶面板，全新A规面板，全视角显示，上下左右178度无失真。色彩饱和度更高，色彩增添技术动态调节色彩平衡，使图像更具有层次感，色泽更亮丽，细节更清晰 设计简约：超薄液晶外壳带钢化玻璃防护，防划防撞，塑胶边框与后壳，主动散热，超薄式的外观设计，整机更加美观，内置内磁式高保真喇叭 ▲尺寸 55英寸，液晶屏（A规），横屏竖屏均可 显示区域 1209.6(H)×680.4(V)mm 分辨率： 1920×1080 亮度： 350cd/m² 对比度 1200:1 频率 60HZ 色域 60% 可视角度 89/89/89/89(CR≥10) 使用寿命 >50000H 主机：CPU：核心数≥4核，主频≥1.9GHz，运行内存：≥4G ,存储内存：≥ 32GB。 | E32: 29 | G32: =F32*E32 -> 0
A33: 业务运行设备 | B33: 公共广播控制主机 | D33: 1.统一管理系统内所有音频终端，包括寻呼话筒、对讲终端、广播终端和消防接口设备。 2.编程定时任务，支持定时音乐文件播放方案，支持编程多套定时方案，支持任意选配执行终端。 3.支持终端自定义设置音乐、对讲、广播、消防等数字音量。 4.支持系统日志记录，支持服务器运行状态图形式实时显示。 5.支持通过手机APP管控广播系统。 6.处理器性能等同或优于四核。 7.内置≥6个USB接口，≥1个MIC IN接口，≥1个LINE OUT接口；≥1个HDMI接口，≥1个COM接口,≥1个VGA输出接口。 | E33: 1 | G33: =F33*E33 -> 0 | H33: 1F机房
A34: 业务运行设备 | B34: 广播寻呼话筒 | D34: 1.采用话筒桌面式设计，带有显示屏，带触摸控制功能；显示屏自带数字键、功能键，支持通过触摸呼叫广播，支持呼叫分区及多个分区，呼叫全区广播；可支持≥10个按键自定义一键呼叫广播功能。 2.内置≥1路网络硬件音频解码模块，具有≥1路RJ45网络接口，≥100Mbps传输速率。 3.支持监听任意终端功能，内置≥2W全频扬声器，实现双向通话和网络监听。 4.具有≥1路音频线路输入接口，支持采集播放功能；具有≥1路音频线路输出接口，可外接功率放大器。 5.支持直接操作呼叫或对讲任意终端，支持通过话筒广播呼叫功能，广播延时≤100ms。 6.支持多种呼叫策略，包括无响应转移、占线转移、关机转移，支持自定义接听提示音，支持转移时间、无人接听时间、呼叫等待时间自定义。 7.具有≥1个3.5耳机接口、≥1路3.5话筒输入接口。 8.具有≥1路短路输出接口、≥1路短路输入接口。 | E34: 1 | G34: =F34*E34 -> 0
A35: 业务运行设备 | B35: 广播叫号终端 | D35: 1.采用话筒桌面式设计，带有显示屏，带触摸控制功能；显示屏自带数字键、功能键，支持通过触摸呼叫广播，支持呼叫分区及多个分区，呼叫全区广播；可支持≥10个按键自定义一键呼叫广播功能。 2.内置≥1路网络硬件音频解码模块，具有≥1路RJ45网络接口，≥100Mbps传输速率。 3.支持监听任意终端功能，内置≥2W全频扬声器，实现双向通话和网络监听。 4.具有≥1路音频线路输入接口，支持采集播放功能；具有≥1路音频线路输出接口，可外接功率放大器。 5.支持直接操作呼叫或对讲任意终端，支持通过话筒广播呼叫功能，广播延时≤100ms。 6.支持多种呼叫策略，包括无响应转移、占线转移、关机转移，支持自定义接听提示音，支持转移时间、无人接听时间、呼叫等待时间自定义。 7.具有≥1个3.5耳机接口、≥1路3.5话筒输入接口。 8.具有≥1路短路输出接口、≥1路短路输入接口。 | E35: 9 | G35: =F35*E35 -> 0 | H35: 每层楼弱电间
A36: 业务运行设备 | B36: 广播功放 | D36: 1.设备采用标准≥19英寸机架设计，带有LCD显示屏。 2.内置≥1路网络硬件音频解码模块。 3.支持≥1路线路输入和≥1路话筒输入接口，可独立调节音量。 4.支持高低音调节电位器控制。 5.具有≥1路EMC输入接口，具有最高优先级。 6.具有≥1路音频输出接口。 7.具有≥1路三线制强切输出接口，无需强切电源。 8.集成数字功放，功率≥120W；支持定压方式输出。 9.支持通过后台软件对终端进行远程固件升级。 10.具有≥1路RJ45网络接口，≥100Mbps传输速率。 | E36: 9 | G36: =F36*E36 -> 0 | H36: 每层楼弱电间
A37: 业务运行设备 | B37: 天花喇叭 | D37: 1．额定功率（100V）：12.5W,25W 2．额定功率（70V）：6.2W,12.5W 3．灵敏度：91dB±3dB | E37: 51 | G37: =F37*E37 -> 0
A38: 业务运行设备 | B38: 音柱 | D38: 1．额定功率（100V）：12.5W,25W 2．额定功率（70V）：6.2W,12.5W 3．灵敏度：91dB±3dB | E38: 2 | G38: =F38*E38 -> 0
A39: 业务运行设备 | B39: 音频连接线 | D39: RVV2*1.5，米，黑色 | E39: 3300 | G39: =F39*E39 -> 0
A40: 业务运行设备 | B40: 喇叭线（室内） | D40: 1.8米音频连接线：3.5（耳机插头）*1,双莲花（RCA）*1,线径：0.3mm | E40: 4 | G40: =F40*E40 -> 0
A41: 业务运行设备 | B41: JDG25管 | D41: JDG25管 | E41: 2500 | G41: =F41*E41 -> 0
A42: 业务运行设备 | B42: 其它辅助材料 | D42: 绝缘胶布、排插，音频跳线等 | E42: 1 | G42: =F42*E42 -> 0
A43: 业务运行设备 | B43: LED显示单元 | D43: 像素结构：1R1G1B ▲像素间距：3.076 mm 像素密度：105625 点/㎡ 维护方式：完全前维护 灯珠尺寸：2121 模组尺寸：320 mm × 160 mm × 24.6 mm（含磁铁厚度） 模组分辨率：104 × 52 模组重量：0.34 kg/块 信号接口：HUB75E * 16 防护等级：IP30 套件材质：塑壳 封装品牌：国产铜线 白平衡亮度：500 cd/㎡ 色温：3000-10000 K可调 可视角：160°(H)/160°(V) 对比度：3000：1 色度均匀性：± 0.003Cx，Cy之内 亮度均匀性：≥ 97％ 驱动方式：恒流驱动 扫描数：26S 换帧频率：60 Hz 刷新率：3840 Hz 灰度等级：最大支持16 bit 峰值功耗：≤420W/㎡ 平均功耗：≤140W/㎡ 供电要求：AC：200-240V~ 模组供电电压：DC：4.5-5V 模组峰值功耗：22W 模组最大电流：4.5A 工作温度：-10 ℃ ~ 40 ℃ 工作湿度：10%~80% RH（无冷凝水） 存储温度：-20 ℃ ~ 60 ℃ 存储湿度：10%~85% RH（无冷凝水） | E43: 4.61 | G43: =F43*E43 -> 0
A44: 业务运行设备 | B44: LED壁挂支架 | D44: 厚度：箱体屏幕支架 150mm，模组支架屏幕 126.5mm 弧度：0° LOGO：无 颜色：黑色 材料：SPCC 高强度钢板 表面处理：静电喷塑 | E44: 4.61 | G44: =F44*E44 -> 0
A45: 业务运行设备 | B45: LED控制器 | D45: 1、输入：HDMI×3、USB×1、DEBUG×1、网络通信网口×2、RS485×1、IR IN×1；输出：Audio OUT×1,HDMI (Monitor) ×1,带载网口×2；按键：开关×1、功能按键×3 2、控制网口×2，支持TCP/IP网络协议，双网口均可用于控制设备或设备网络级联，其中一个接口用于控制设备时，另外一个网口就用于设备网络级联。 3、信号输入：3路HDMI1.4,每路支持最大分辨率：260W@60Hz。可自定义分辨率，极限宽度：4096，极限高度：4096。支持HDCP 4、单网口带载最大65W像素，设备总带载最大130W像素。 5、支持通过设备自带Web浏览器、客户端、遥控器操作，对图像的图像的亮度、色温以及图像模式进行调节设置。 6、支持红绿蓝三色多级调节。支持通过客户端、遥控器进行调节。 7、支持任意走线、LED屏幕带载无矩形框架限制。 8、支持通过设备双千兆网络接口，通过TCP/IP协议实现多设备级联管理。 9、可将输入信号进行缩放，以匹配 LED的分辨率进行输出。 10、支持信源接入状态显示，可通过物理按键、客户端、遥控器、设备自带Web浏览器进行信源切换。 11、可通过物理按键、客户端、Web浏览器方式对屏幕红、绿、蓝、白、条纹逐行扫描进行自检操作。 12、可通过设备自带客户端、遥控器同时控制多台发送卡设备参数的调节。 13、支持通过Web页面和PC客户端，通过网络IP地址登录设备，查看发送卡IP 地址、序列号、带载屏幕分辨率、运行状态、软件版本、运行温度、内存使用率、网口利用率情况等信息 在超过运行限制或状态异常时会进行报警。 14、支持通过Web浏览器，在级联模式下，可以在同一界面下支持查看多发送卡下LED整墙的概览信息和LED屏连线状态;支持查看行列网格展示屏幕接收卡规模、在Web端鼠标移到网格上时，可展示该网格所属网口的所有接收卡单元，高亮展示，展示网线连线顺序，网口号，展示工作状态。 15、字幕单设备最大支持宽度为32760，内容支持滚动，支持设置滚动速度 最大32760。 | E45: 1 | G45: =F45*E45 -> 0
A46: 业务运行设备 | B46: LED配电柜 | D46: 1、配电柜额定功率≥10KW，具备3个单相回路，输入电压380V，输出电压220V 2、可通过RS485接口读取配电柜内部温度。 3、检测到烟雾后可自动断电，超过温度阈值后可自动断电。 4、输入输出均有断路器保护措施，在发生过流或短路后可以自动断电。 5、支持手动一键启动、停止；支持单路启动停止；支持分时段控制；支持电脑远程控制。 6、支持记录运行状态、异常报警（高温、烟雾）等。 7、网络接口：支持MODBUS-TCP协议； 8、串口通讯端口：支持RS485、MODBUS-RTU协议。 9、支持设备分级上电，避免瞬间电流过大。 | E46: 1 | G46: =F46*E46 -> 0
A47: 业务运行设备 | B47: LED显示单元 | D47: 像素结构：1R1G1B 像素间距：3.076 mm 像素密度：105625 点/㎡ 维护方式：完全前维护 灯珠尺寸：2121 模组尺寸：320 mm × 160 mm × 24.6 mm（含磁铁厚度） 模组分辨率：104 × 52 模组重量：0.34 kg/块 信号接口：HUB75E * 16 防护等级：IP30 套件材质：塑壳 封装品牌：国产铜线 白平衡亮度：500 cd/㎡ 色温：3000-10000 K可调 可视角：160°(H)/160°(V) 对比度：3000：1 色度均匀性：± 0.003Cx，Cy之内 亮度均匀性：≥ 97％ 驱动方式：恒流驱动 扫描数：26S 换帧频率：60 Hz 刷新率：3840 Hz 灰度等级：最大支持16 bit 峰值功耗：≤420W/㎡ 平均功耗：≤140W/㎡ 供电要求：AC：200-240V~ 模组供电电压：DC：4.5-5V 模组峰值功耗：22W 模组最大电流：4.5A 工作温度：-10 ℃ ~ 40 ℃ 工作湿度：10%~80% RH（无冷凝水） 存储温度：-20 ℃ ~ 60 ℃ 存储湿度：10%~85% RH（无冷凝水） | E47: 5.84 | G47: =F47*E47 -> 0
A48: 业务运行设备 | B48: LED壁挂支架 | D48: 厚度：箱体屏幕支架 150mm，模组支架屏幕 126.5mm 弧度：0° LOGO：无 颜色：黑色 材料：SPCC 高强度钢板 表面处理：静电喷塑 | E48: 5.84 | G48: =F48*E48 -> 0
... A178: 监控设备（业务窗口） | B178: 拾音器 | D178: 麦克风:六个高灵敏度全指向硅麦 动态范围: 0 dB ~92 dB 最大承受音压: 120 dBSPL 拾音范围: 0 m~7 m 灵敏度：-38 dBV/Pa 输出信号幅度：2.5 Vpp 信噪比：66 dB 频率响应：100 Hz~10 kHz 音频传输距离：≥500 m（模拟输出） 接口类型：RJ45，LINE OUT, AEC 输出阻抗：600 Ω 电源电压：单电源：支持DC：9~30 V POE供电：802.3af，36 V~57 V，0.06 A~0.04 A | E178: 70 | G178: =F178*E178 -> 0
A179: 监控设备（所有区域监控） | B179: 六类非屏蔽双绞线 | D179: 六类4对非屏蔽低烟无卤电缆 | E179: =SUM(E174,E176)*83 -> 8549 | G179: =F179*E179 -> 0
A180: 监控设备（所有区域监控） | B180: 监控JDG25管 | D180: JDG25管 | E180: =SUM(E174,E176)*20 -> 2060 | G180: =F180*E180 -> 0
A181: 监控设备（所有区域监控） | B181: 布管布线辅材 | D181: 底盒、直通、三通、杯梳，直角弯头、码钉、扎带、电工胶布等 | E181: 1 | G181: =F181*E181 -> 0
A182: 监控设备 | B182: 视频管理平台一体机 | D182: 硬件要求： 1、2U标准机架式4盘位一体机，ATX电源 2、采用6核12线程64位高性能处理器，48GB DDR4高频率内存条 3、内置1个HDMI接口、1个DP接口，2个10M/100M/1000Mbps网口，2个USB2.0接口、2个USB3.0接口 4、内置BBU （Battery Backup Unit）蓄电池冗余备份实现断电保护功能 软件要求： 1、支持对用户、角色、组织、区域、人员、车辆、卡片、设备等基础资源进行管理调配，支持视频监控与门禁管理功能 2、支持在视频预览、录像回放、即时回放、录像剪辑、手动录像和录像下载时叠加水印 3、支持接入视频监控点，监控点最大管理容量不低于500路 4、平台客户端支持在1/2/3/4/6/8/9/10/13/14/16/17/24/25画面分隔模式下进行监控点轮巡预览，轮巡时间可设置，支持全屏显示 5、支持大屏控制，可对大屏进行1/4/9/16/25分屏、拼接、开窗、窗口漫游的操作，通过客户端支持电视墙开窗后支持分割，并可将大屏分屏配置另保存为场景，支持在iPad上操作监控点上墙、拼接、分屏、漫游、预案切换等操作 6、支持对监控点、编码设备的在线状态进行设备巡检，并以统计图方式展示巡检结果；支持对监控的图像进行视频质量诊断，图像异常项包括图像偏色、噪声干扰、图像过暗、图像过亮、视频丢帧、视频抖动、对比度异常、条纹干扰、视频遮挡、信号丢失、图像黑白、图像模糊、场景变换、视频剧变 7、支持对历史录像的完整率进行监控，统计项包括录像完整数、录像丢失数、巡检失败数、未检测数、监控点总数；支持以统计图展现指定区域的录像完整情况，支持报表展示视频质量统计、录像完整率统计、区域运维考核结果统计，支持设备巡检计划配置，包括计划名称、巡检类型、采集对象、巡检时间、巡检频率、状态，并以列表形式展现 8、支持多色彩（红、橙、黄）展示运行告警状态，支持告警统计、概览、处理，支持告警记录查看、查询，支持告警单条、批量处理；支持系统最近7天每日告警数统计，支持评分量化系统监控指数，显示系统运行状态 | E182: 1 | G182: =F182*E182 -> 0
A183: 监控设备 | B183: 流媒体一体机 | D183: 1、CPU：配置1颗 C86架构处理器，单处理器物理核心数≥16核，主频≥2.5 GHz 2、内存：配置不低于32G DDR4，16根内存插槽，最大支持扩展至1TB内存； 3、硬盘：不低于配置2块600G 10K SAS硬盘； 4、网口不低于板载2个千兆电口，支持选配10GbE、25GbE SFP+等多种网络接口； 5、其他接口：配置1个千兆RJ-45管理接口，4个USB 3.0接口，2个位于机箱后部，2个位于机箱前部；1个VGA口，位于机箱后部；可选1个COM口位于机箱后部； 6、电源：配置550W（1+1）高效铂金CRPS冗余电源 7、支持视频流媒体功能 | E183: 1 | G183: =F183*E183 -> 0
A184: 监控设备 | B184: 视频存储主机 | D184: 1、处理器：不低于1颗64位多核处理器 2、系统内存：不低于8GB（可扩展至64GB） 3、系统盘：不低于1×240GB SSD 4、存储接口：48个SATA接口，支持硬盘热插拔 5、网络接口：2个千兆数据网口，1个千兆管理口 6、其他接口：1×COM，2×USB2.0，2×USB3.0，1×VGA 7、视频性能：最大支持接入550路（最大接入带宽1100Mbps） 8、支持视频流直写、图片直写 9、支持ONVIF、GB/T 28181、RTSP等标准协议 10、支持VRAID、RAID0、1、5、6、10等多种RAID模式 支持RAID降级可读写(VRAID)，支持全局热备(RAID0、1、5、6、10)，多重保护数据安全 11、支持RAID即建即用，支持存储空间扩展 12、支持局部重构，原盘或其克隆盘拔出设备后再插回，未被覆盖数据可快速恢复 13、支持通过IE、火狐、Google、QQ、360、遨游、搜狗、百度、猎豹、欧朋、Edge浏览器对设备进行操作；对单个或多个设备或设备内的磁盘进行定位，并可设置时间，支持存储硬盘出现故障，对应硬盘槽位有报警灯光提示 14、可对视音频、图片、结构化数据、对象等文件进行混合存储，并可通过http和https方式下载，支持划分多个对象池，支持对象池的独立循环覆盖 15、支持红灯/蓝灯报警，可根据故障紧急程度分级报警，不同级别闪烁不同颜色保养灯，保养灯闪烁时长、频率可设 | E184: 1 | G184: =F184*E184 -> 0
A185: 监控设备 | B185: 12T硬盘 | D185: 接口类型：SATA 尺寸：3.5寸 转速：7200 平均读写功率（W）：9.2W 缓存：512MB 标称容量：12TB 刻录技术：CMR 接口传输速率（最大值）：6Gb/s MTBF：2000000 h | E185: 26 | G185: =F185*E185 -> 0
A186: 监控设备 | B186: 汇聚交换机（公共区域监控） | D186: 1、交换容量≥672Gbps/6.72Tbps 2、包转发率≥171Mpps 3、24个千兆SFP端口，其中8个复用的千兆10/100/1000Base-T以太网端口Combo，4个10GE SFP+端口，2 个专用堆叠口 4、支持2个专用堆叠口，专用堆叠口免配置，无需占用业务口带宽 5、支持智能 iStack 堆叠，将多台支持堆叠特性的交换机组合在一起，从逻辑上虚拟为一台交换机。 6、支持 SNMP v1/v2c/v3、CLI（命令行）、Web 网管、SSHv2.0等多样化的管理和维护方式；支持 RMON、多日志主机、端口流量统计和网络质量分析，便于网络优化和改造 7、支持部署在纯 IPv4 或 IPv6 网络，支持部署在 IPv4与IPv6共存的网络，充分满足网络从IPv4 向 IPv6 过渡的需求。 8、支持 MAC 地址、802.1x 和 Portal 认证等多种安全认证方式，实现用户策略（VLAN、QoS、ACL）的动态下发。支持基于端口粒度的 802.1x 认证、MAC 认证和混合认证。 9、该系列交换机支持 MUX VLAN 功能，MUX VLAN 分为主 VLAN 和从 VLAN，从 VLAN 又分为互通型从 VLAN 和隔离型从 VLAN。主 VLAN 与从 VLAN 之间可以相互通信；互通型从 VLAN 内的端口之间互相通信；隔离型从 VLAN 内的端口之间不能互相通信；支持 VCMP，VLAN 集中管理协议；支持 VBST，VLAN 生成树协议。 | E186: 1 | G186: =F186*E186 -> 0
A187: 监控设备 | B187: 汇聚交换机（业务窗口监控） | D187: 1、交换容量≥672Gbps/6.72Tbps 2、包转发率≥171Mpps 3、24个千兆SFP端口，其中8个复用的千兆10/100/1000Base-T以太网端口Combo，4个10GE SFP+端口，2 个专用堆叠口 4、支持2个专用堆叠口，专用堆叠口免配置，无需占用业务口带宽 5、支持智能 iStack 堆叠，将多台支持堆叠特性的交换机组合在一起，从逻辑上虚拟为一台交换机。 6、支持 SNMP v1/v2c/v3、CLI（命令行）、Web 网管、SSHv2.0等多样化的管理和维护方式；支持 RMON、多日志主机、端口流量统计和网络质量分析，便于网络优化和改造 7、支持部署在纯 IPv4 或 IPv6 网络，支持部署在 IPv4与IPv6共存的网络，充分满足网络从IPv4 向 IPv6 过渡的需求。 8、支持 MAC 地址、802.1x 和 Portal 认证等多种安全认证方式，实现用户策略（VLAN、QoS、ACL）的动态下发。支持基于端口粒度的 802.1x 认证、MAC 认证和混合认证。 9、该系列交换机支持 MUX VLAN 功能，MUX VLAN 分为主 VLAN 和从 VLAN，从 VLAN 又分为互通型从 VLAN 和隔离型从 VLAN。主 VLAN 与从 VLAN 之间可以相互通信；互通型从 VLAN 内的端口之间互相通信；隔离型从 VLAN 内的端口之间不能互相通信；支持 VCMP，VLAN 集中管理协议；支持 VBST，VLAN 生成树协议。 | E187: 1 | G187: =F187*E187 -> 0
A188: 监控设备 | B188: 24口POE交换机（业务窗口监控） | D188: 1、交换容量≥672Gbps/6.72Tbps 2、包转发率≥126Mpps 3、24个10/100/1000BASE-T以太网端口，4 个千兆SFP，AC交流电源 4、支持快速POE、永久POE，PoE端口提供的总功率≥400W 5、ARP规格≥2K，ipv4路由规格≥3K，MAC表规格≥16K； 6、支持4K个VLAN，支持基于MAC/协议/IP子网/策略/端口的VLAN； 7、支持1:1和N:1 VLAN Mapping功能 8、支持 IPv4/IPv6 静态路由，支持基于 MAC/协议/IP 子网/策略/端口的 VLAN，支持 1:1 和N:1VLAN Mapping功能； 9、支持智能堆叠，将多台支持堆叠特性的交换机组合在一起，从逻辑上虚拟为一台交换机； 10、支持 MAC 地址认证、802.1x 认证、Portal 认证等多种安全认证方式，实现用户策略（VLAN、QoS、ACL）的动态下发。支持基于端口粒度的 dot1X、MAC 认证和混合认证；支持基于 VLANIF 接口粒度的 Portal 认证。 | E188: 10 | G188: =F188*E188 -> 0
A189: 监控设备 | B189: 24口POE交换机（公共区域监控） | D189: 1、交换容量≥672Gbps/6.72Tbps 2、包转发率≥126Mpps 3、24个10/100/1000BASE-T以太网端口，4 个千兆SFP，AC交流电源 4、支持快速POE、永久POE，PoE端口提供的总功率≥400W 5、ARP规格≥2K，ipv4路由规格≥3K，MAC表规格≥16K； 6、支持4K个VLAN，支持基于MAC/协议/IP子网/策略/端口的VLAN； 7、支持1:1和N:1 VLAN Mapping功能 8、支持 IPv4/IPv6 静态路由，支持基于 MAC/协议/IP 子网/策略/端口的 VLAN，支持 1:1 和N:1VLAN Mapping功能； 9、支持智能堆叠，将多台支持堆叠特性的交换机组合在一起，从逻辑上虚拟为一台交换机； 10、支持 MAC 地址认证、802.1x 认证、Portal 认证等多种安全认证方式，实现用户策略（VLAN、QoS、ACL）的动态下发。支持基于端口粒度的 dot1X、MAC 认证和混合认证；支持基于 VLANIF 接口粒度的 Portal 认证。 | E189: 10 | G189: =F189*E189 -> 0
A190: 监控设备 | B190: 万兆光模块 | D190: 光模块-SFP+-10G-单模模块(1310nm,10km,LC) | E190: =(E186+E187)*2 -> 4 | G190: =F190*E190 -> 0
A191: 监控设备 | B191: 千兆光模块 | D191: 光模块-SFP-GE-单模模块(1310nm,10km,LC) | E191: =(E189+E188)*2 -> 40 | G191: =F191*E191 -> 0
A192: 监控设备 | B192: 24口配线架 | D192: 24口六类网络配线架 | E192: 11 | G192: =F192*E192 -> 0
A193: 监控设备 | B193: 理线器 | D193: 标准19英寸机架式安装，高度：1U； | E193: =E192+E188+E189+E187+E186 -> 33 | G193: =F193*E193 -> 0
A194: 监控设备 | B194: 六类跳线 5米 | D194: 六类非屏蔽跳线5米 导体规格：多股绞合，软圆铜线，4对； 屏蔽方式: UTP； 护套材料：PVC，护套外径：6.0±0.3mm； | E194: =SUM(E174,E176) -> 103 | G194: =F194*E194 -> 0
A195: 监控设备 | B195: 六类跳线标签 | D195: 六类跳线标签 | E195: =E194 -> 103 | G195: =F195*E195 -> 0
A196: 监控设备 | B196: 光纤跳线 10米 | D196: 电信级LC-LC单模双芯，低烟无卤环保光纤线，10米 | E196: =E186+E187 -> 2 | G196: =F196*E196 -> 0
A197: 监控设备 | B197: 光纤跳线 3米 | D197: 电信级LC-LC单模双芯，低烟无卤环保光纤线，3米 | E197: =E189*2 -> 20 | G197: =F197*E197 -> 0
A198: 监控设备 | B198: 光纤跳线标签 | D198: 光纤跳线标签 | E198: =SUM(E196:E197) -> 22 | G198: =F198*E198 -> 0
A199: 监控设备 | B199: 布管布线辅材 | D199: 底盒、直通、三通、杯梳，直角弯头、码钉、扎带、电工胶布等 | E199: 1 | G199: =F199*E199 -> 0
A200: 监控平台级联 | B200: 安慧眼-视频平台接入 | D200: 提供基础视频服务:视频监控、录像回放、图片抓拍、级联公安。 | E200: =E174+E176 -> 103 | G200: =F200*E200 -> 0
A201: 监控平台级联 | B201: 接入调测费 | D201: 前端设备接入平台的调试服务，具体包括：前端摄像机数据配置、系统联调及抓包测试等 | E201: =E200 -> 103 | G201: =F201*E201 -> 0
A202: 监控平台级联 | B202: 专线调试费 | D202: 线安装调测费，含光猫租赁。 | E202: 1 | G202: =F202*E202 -> 0
A203: 紧急求助 | B203: 非可视报警盒 | D203: 1. 操作系统：嵌入式操作系统 2. 屏幕尺寸：无屏 3. 屏幕分辨率：无 4. 摄像头参数：无 5. 操作方式：1个实体按键 6. 通信方式：有线网络 7. 网络协议：支持TCP/IP、RTSP、ISUP协议、萤石云协议、HIK_SIP、GB28181 8. 硬件接口：RJ45*1，电源接口*1，RS485*1，IO输入*2，IO输出*2，3.5mm音频输入接口*1，3.5mm音频输出接口*1，标准Micro SD卡接口*1（最大支持256G） 9. 安装方式：壁挂/嵌入式安装 10. 供电方式：DC12V，不支持POE供电 11. 设备功耗：≤8W 12. 工作温度：-25℃-＋55℃ 13. 工作湿度：10%-90% 14. 外壳材质：金属 15. 防护等级：IP65 | E203: =5+6+4 -> 15 | G203: =F203*E203 -> 0
A204: 紧急求助 | B204: 紧急求助管理机 | D204: 紧急报警管理机 一体式钢化玻璃面板设计， 10.1寸彩色IPS 触摸屏，1280*800分辨率，扁平化风格UI操作界面，绚丽大气，操作简便 标配鹅颈话筒，具有硬件噪声抑制与回声消除功能，保证通话音质清晰明亮； 实时对讲：支持与报警盒、报警箱、报警柱、门口机、室内机及管理机之间的可视对讲； 监听监视：支持实时预览前端设备的音视频； 报警功能：实时接收、显示前端设备的报警信息 分组广播：支持对前端设备进行分组广播喊话；支持同时广播50台前端设备，配置TS软件后支持广播最大250台报警盒 硬件接口：USB接口，支持拓展音箱&指纹模块；支持TF卡，扩展容量，提高安全性；具有HDMI接口可外接显示屏；3.5mm音频输入输出接口可外接麦克风和扬声器； web管理：具有web管理功能，支持进行参数配置、设备管理、系统维护等操作； 安卓系统，支持第三方app安装，便于三方拓展个性化业务应用； 自带铝合金支架，支持桌面多个角度摆放，同时支持选配壁挂式安装 | E204: 4 | G204: =F204*E204 -> 0
A205: 紧急求助(转110） | B205: 非可视报警盒 | D205: 1. 操作系统：嵌入式操作系统 2. 屏幕尺寸：无屏 3. 屏幕分辨率：无 4. 摄像头参数：无 5. 操作方式：1个实体按键 6. 通信方式：有线网络 7. 网络协议：支持TCP/IP、RTSP、ISUP协议、萤石云协议、HIK_SIP、GB28181 8. 硬件接口：RJ45*1，电源接口*1，RS485*1，IO输入*2，IO输出*2，3.5mm音频输入接口*1，3.5mm音频输出接口*1，标准Micro SD卡接口*1（最大支持256G） 9. 安装方式：壁挂/嵌入式安装 10. 供电方式：DC12V，不支持POE供电 11. 设备功耗：≤8W 12. 工作温度：-25℃-＋55℃ 13. 工作湿度：10%-90% 14. 外壳材质：金属 15. 防护等级：IP65 | E205: =1+1+1 -> 3 | G205: =F205*E205 -> 0
A206: 紧急求助(转110） | B206: 紧急报警配件（转110） | D206: 外接4G模块配件，实现4G打电话功能 | E206: 3 | G206: =F206*E206 -> 0
A207: 紧急求助(转110） | B207: 4G卡套餐 | D207: 4G卡套餐，内含15个月费用 | E207: 3 | G207: =F207*E207 -> 0
A208: 设备间设备 | B208: 吊顶天棚 铝板面层 600×600 | D208: 包含区域：首层设备间 | E208: 40 | G208: =F208*E208 -> 0 | H208: 包含区域：首层设备间
A209: 设备间设备 | B209: 吊顶天棚 轻钢龙骨 | D209: 包含区域：首层设备间 | E209: 40 | G209: =F209*E209 -> 0 | H209: 包含区域：首层设备间
A210: 设备间设备 | B210: 腻子、白色乳胶漆（墙面） | D210: 1.包含区域：首层设备间。 2.刮腻子两遍以上,干燥打磨。 3.白色乳胶漆，一底两面。 | E210: =40*3 -> 120 | G210: =F210*E210 -> 0 | H210: 包含区域：首层设备间
A211: 设备间设备 | B211: 防静电活动地板 | D211: 1.包含区域：首层设备间。 2.无边框全钢国标型静电地板，规格：600*600 | E211: 40 | G211: =F211*E211 -> 0 | H211: 包含区域：首层设备间
A212: 设备间设备 | B212: 防静电踢脚线 | D212: 包含区域：首层设备间 | E212: =40*0.1 -> 4 | G212: =F212*E212 -> 0 | H212: 包含区域：首层设备间
A213: 设备间设备 | B213: 平板灯 | D213: 600*600 LED光源，28W | E213: 14 | G213: =F213*E213 -> 0 | H213: 包含区域：首层设备间
A214: 设备间设备 | B214: 应急灯 | D214: 5W,应急时间≥90分钟；额定电压：DC24V | E214: 8 | G214: =F214*E214 -> 0 | H214: 包含区域：首层设备间
A215: 设备间设备 | B215: 安全出口灯 | D215: 5W,220V 自带应急套件，应急时间≥180分钟 | E215: 1 | G215: =F215*E215 -> 0 | H215: 包含区域：首层设备间
A216: 设备间设备 | B216: 镀锌线槽100*100*1.0mm | D216: 镀锌线槽100*100*1.0mm(配驳件) | E216: 10 | G216: =F216*E216 -> 0 | H216: 包含区域：首层设备间
A217: 设备间设备 | B217: 镀锌线槽200*100*1.0mm | D217: 镀锌线槽200*100*1.0mm(配驳件) | E217: 10 | G217: =F217*E217 -> 0 | H217: 包含区域：首层设备间
A218: 设备间设备 | B218: JDG镀锌金属线管20mmx1.0mm | D218: 暗敷；JDG镀锌金属线管20mmx1.0mm | E218: 50 | G218: =F218*E218 -> 0 | H218: 包含区域：首层设备间
A219: 设备间设备 | B219: 插座 双联二三极暗装250V 10A | D219: 双联二三极暗装250V 10A | E219: 10 | G219: =F219*E219 -> 0 | H219: 包含区域：首层设备间
A220: 设备间设备 | B220: 照明开关 | D220: 双联单控翘板开关 | E220: 2 | G220: =F220*E220 -> 0 | H220: 包含区域：首层设备间
A221: 设备间设备 | B221: 86型底盒86*86*45mm | D221: 86型底盒，尺寸：86×86×45mm； 颜色：瓷白色； 材料：ABS。 | E221: =E220+E219 -> 12 | G221: =F221*E221 -> 0 | H221: 包含区域：首层设备间
A222: 设备间设备 | B222: 线槽配线 电源线RVV3×6.0 | D222: RVV3×6.0 | E222: =35*10 -> 350 | G222: =F222*E222 -> 0 | H222: 各层设备间
A223: 设备间设备 | B223: 配线 电源线RVV3*2.5 | D223: 电源线RVV3*2.5 | E223: 50 | G223: =F223*E223 -> 0 | H223: 包含区域：首层设备间
A224: 设备间设备 | B224: 接地专用铜导线BVR35mm2 | D224: 接地专用铜导线BVR35mm2 | E224: =11*30 -> 330 | G224: =F224*E224 -> 0 | H224: 各层设备间
A225: 设备间设备 | B225: 等电位接地端子 | D225: 等电位接地端子 | E225: 1 | G225: =F225*E225 -> 0 | H225: 包含区域：首层设备间
A226: 设备间设备 | B226: 接地铜带4mm*40mm | D226: 接地铜带4mm*40mm | E226: 50 | G226: =F226*E226 -> 0 | H226: 包含区域：首层设备间
A227: 设备间设备 | B227: 防雷接地网 | D227: 防雷接地网,含柱头开凿、联结、恢复、测试、优化等工作。 | E227: 1 | G227: =F227*E227 -> 0 | H227: 包含区域：首层设备间
A228: 利旧大屏(安装于首层入口及等候区） | B228: 设备拆除费 | D228: 拆除原有LED大屏1（6.24m*2.7m*0.15m）、LED大屏2（3.36m*1.62m*0.15m）包含大屏模块、钢架、电箱、处理器等设备 | E228: =6.24*2.7+3.36*1.62 -> 22.2912 | G228: =F228*E228 -> 0
A229: 利旧大屏(安装于首层入口及等候区） | B229: 设备搬迁及安装 | D229: 搬迁至指定位置及安装调试 | E229: =6.24*2.7+3.36*1.62 -> 22.2912 | G229: =F229*E229 -> 0
...

Sheet 硬件及基础软件集成
A1: 类别 | B1: 名称 | C1: 描述 | D1: 数量（项） | E1: 单价（元） | F1: 合计（元）
A2: 系统集成 | B2: 硬件及基础软件系统集成费用（含零星开槽、开洞等工程） | C2: 安装调试 | D2: 1 | F2: =E2*D2 -> 0
A3: 系统集成费用合计： | F3: =SUM(F2) -> 0

Sheet 系统开发
A1: 应用系统 | B1: 子系统名称 | C1: 子系统模块 | D1: 具体模块描述 | E1: 数量（项） | F1: 单价(元) | G1: 小计(元)
A2: 一件事专区建设 | B2: 一件事专区 | C2: 按区划选择 | D2: 专区首页增加区划选择器，支持选择斗门区。通过选择斗门区，展示对应区划的专区内容。并可生成斗门区一件事专区链接提供给政务服务网斗门区节点配置。 | E2: 1 | G2: =E2*F2 -> 0
B3: 一件事专区管理 | C3: 列表优化 | D3: 一级主题分类菜单树增加图标【斗】，和增加专区选择器，来选择斗门一件事专区展示斗门相关配置内容。 | E3: 1 | G3: =E3*F3 -> 0
C4: 新增主题分类 | D4: 主题分类增加所属一件事专区，支持选择该主题分类的所属专区为斗门区一件事专区。 | E4: 1 | G4: =E4*F4 -> 0
C5: 斗门一件事专区管理 | D5: 设置斗门区一件事专区配置，可在该专区配置管理斗门区的一件事分类，实现一件事主题分类的发布、下架、排序等。 | E5: 1 | G5: =E5*F5 -> 0
A6: 跨域通办专区建设 | B6: 跨域通办专区 | C6: 按区划选择 | D6: 专区首页增加区划选择器，支持选择斗门区。通过选择斗门区，展示对应区划的专区内容。并可生成斗门区跨域通办专区链接提供给政务服务网斗门区节点配置。 | E6: 1 | G6: =E6*F6 -> 0
C7: 跨域服务清单优化 | D7: 斗门跨域通办专区首页的跨域服务清单，直接获取可在斗门办理的事项、可在异地办理的斗门事项模块展示。 | E7: 1 | G7: =E7*F7 -> 0
C8: 可在斗门办理的异地事项 | D8: 获取斗门跨域通办专区，可在斗门办理的异地事项，包含全程网办、异地代收事项。事项归属地需按省、市、区选择展示。 | E8: 1 | G8: =E8*F8 -> 0
C9: 可在异地办理的斗门事项 | D9: 获取斗门跨域通办专区，可在异地办理的斗门事项，包含全程网办、异地代收事项。事项办理地需按省、市、区选择展示。 | E9: 1 | G9: =E9*F9 -> 0
B10: 跨域事项管理 | C10: 列表优化 | D10: 列表增加事项所属专区字段、查询，支持查询出斗门跨域通办专区事项。 | E10: 1 | G10: =E10*F10 -> 0
C11: 导入本地事项 | D11: 增加导入专区选择，支持选择本地事项导入到斗门区跨域通办专区进行后续配置。 | E11: 1 | G11: =E11*F11 -> 0
C12: 手动录入事项 | D12: 增加导入专区选择，支持选择录入事项导入到斗门区跨域通办专区进行后续配置。 | E12: 1 | G12: =E12*F12 -> 0
C13: 跨省事项下拉 | D13: 增加导入专区选择，支持选择跨省事项导入到斗门区跨域通办专区进行后续配置。 | E13: 1 | G13: =E13*F13 -> 0
B14: 跨域通办专区管理 | C14: 列表优化 | D14: 专区增加图标【斗】，和增加专区选择器，来选择斗门跨域专区展示斗门相关配置内容。 | E14: 1 | G14: =E14*F14 -> 0
C15: 新增专区 | D15: 1、专区配置增加所属专区，支持配为斗门区跨域通办专区。 2、设置斗门区跨域专区，可在该专区配置管理斗门区的专区内容，如banner或专区名称等。 | E15: 1 | G15: =E15*F15 -> 0
A16: 助残专区建设 | B16: 助残专区 | C16: 专区查询 | D16: 1、支持按事项名称模糊查询。 2、支持按部门选择查询。 | E16: 1 | G16: =E16*F16 -> 0
C17: 事项清单 | D17: 展示事项名称、事项类型、实施部门，支持点击办事指南查询事项指南；点击立即办理前往申办。 | E17: 1 | G17: =E17*F17 -> 0
B18: 事项进驻配置管理 | C18: 列表优化 | D18: 列表查询展示：增加行政区划、组织机构的列表字段和列表查询。支持选择展示斗门区事项进驻清单。 | E18: 1 | G18: =E18*F18 -> 0
C19: 新增进驻清单 | D19: 进驻清单增加所属行政区划、组织机构字段填写。支持新增斗门区的进驻清单。 | E19: 1 | G19: =E19*F19 -> 0
C20: 助残专区清单管理 | D20: 设置一个特殊的进驻清单，可在该清单内管理助残专区的事项，实现事项的发布、下架、排序等。 | E20: 1 | G20: =E20*F20 -> 0
A21: 系统开发费用合计： | G21: =SUM(G2:G20) -> 0

Sheet (建设期+质保期)通讯链路和云资源租赁
A1: 类别 | B1: 名称 | C1: 具体功能描述 | D1: 数量 | E1: 租赁月数 | F1: 单价（元） | G1: 小计（元） | H1: 备注
A2: 租赁费用 | B2: 视频接入专线 | C2: 上行速率:100M，下行速率:2M(支持同时调阅12路视频) | D2: 1条 | E2: 15 | G2: =E2*F2/12 -> 0
B3: 国产化虚拟主机 | C3: 32核CPU、64G内存、100G SSD系统盘+200G SSD数据盘 | D3: 1台 | E3: 15 | G3: =E3*F3/12 -> 0
B4: 国产化虚拟主机 | C4: 8核CPU、16G内存、100G SSD系统盘+200G SSD数据盘 | D4: 1台 | E4: 15 | G4: =E4*F4/12 -> 0
B5: 国产化操作系统 | C5: 国产化操作系统2套 | D5: 1套 | E5: 15 | G5: =E5*F5/12 -> 0
B6: 堡垒机服务 | C6: 平台堡垒机服务，面向政务云平台提供统一身份管理和资源访问控制，保障运维操作安全，提升运维效率，含4个托管服务器。 | D6: 1项 | E6: 15 | G6: =E6*F6/12 -> 0
A7: 租赁费用合计： | G7: =SUM(G2:G6) -> 0

Sheet 智能转单服务租赁
A1: 类别 | B1: 名称 | C1: 具体功能描述 | D1: 每年费用（元） | E1: 租赁月数 | F1: 小计(元) | G1: 备注
A2: 服务租赁费用 | B2: 问政平台智能化升级服务 | C2: 含政平台智能化升级所需开发平台、智能接单、智能部署、知识库、知识图谱、自训练模型等服务 | E2: 36 | F2: =D2*36/12 -> 0
A3: 智能转单服务租赁费用合计： | F3: =SUM(F2:F2) -> 0
