Workbook

Sheet 汇总表
A1: 珠海市斗门区市民服务中心信息化工程项目报价汇总表
A2: 序号 | B2: 类别 | D2: 报价（元） | E2: 备注
A3: 1 | B3: 建设费用 | C3: 硬件购置费用 | D3: =硬件购置!G233 -> 0
A4: 3 | C4: 硬件及基础软件集成费用 | D4: =硬件及基础软件集成!F3 -> 0
A5: 4 | C5: 系统开发费用 | D5: =系统开发!G21 -> 0
A6: 5 | C6: 租赁费用 | D6: ='(建设期+质保期)通讯链路和云资源租赁'!G7 -> 0
A7: 6 | C7: 智能转单服务租赁费用 | D7: =智能转单服务租赁!F3 -> 0
A8: 8 | B8: 建设费用合计 | D8: =SUM(D3:D7) -> 0

Sheet 硬件购置
A1: 硬件类别 | B1: 硬件名称 | C1: 投标品牌及型号 | D1: 配置参数 | E1: 数量 | F1: 单价(元) | G1: 小计(元) | H1: 备注
A2: 计算机网络 | B2: 600宽机柜 | D2: 尺寸(宽*深*高)≥600*1000*2000mm,平板网孔门，前门单开，后门双开、活动轮、支撑脚。 | E2: 34 | G2: =F2*E2 -> 0
A3: 计算机网络 | B3: 12口16A竖装PDU | D3: 1、电流：≥16A； 2、≥12位插座； 3、≥5米长3*4电源线； | E3: =E2*2 -> 68 | G3: =F3*E3 -> 0
A4: 计算机网络 | B4: 汇聚交换机 | D4: ▲1.交换容量≥1.36Tbps，包转发率≥420 Mpps 2.为了提高设备可靠性，支持模块化可插拔双电源； 3.48个千兆SFP光，4个万兆SFP+； 4.支持业务扩展插槽数≥1，扩展支持8个SFP+端口或4个40GE QSFP+端口； 5.配置标准USB接口，支持U盘快速开局； 6.支持MAC地址规格≥32K，支持ARP表项规格≥20000； 7.支持静态路由、RIP v1/v2、OSPF、BGP、ISIS、RIPng、OSPFv3、ISISv6、BGP4+； 8.支持Ipv4路由FIB表≥8K，Ipv6路由FIB表≥4K； 9.支持纵向虚拟化，作为纵向子节点零配置即插即用； 10.支持MACSec加密； 11.支持DHCPv6 Snooping，DAI，SAVI等安全特性； | E4: 2 | G4: =F4*E4 -> 0
A5: 计算机网络 | B5: 48口交换机 | D5: ▲1、交换容量≥6.72Tbps 2、包转发率≥207Mpps 3、48个10/100/1000BASE-T以太网端口，4 个千兆SFP，AC交流电源 4、ARP规格≥2K，ipv4路由规格≥3K，MAC表规格≥16K； 5、支持4K个VLAN，支持基于MAC/协议/IP子网/策略/端口的VLAN； 6、支持1:1和N:1 VLAN Mapping功能 7、支持 IPv4/IPv6 静态路由，支持基于 MAC/协议/IP 子网/策略/端口的 VLAN，支持 1:1 和N:1VLAN Mapping功能； 8、支持智能堆叠，将多台支持堆叠特性的交换机组合在一起，从逻辑上虚拟为一台交换机； 9、支持 MAC 地址认证、802.1x 认证、Portal 认证等多种安全认证方式，实现用户策略（VLAN、QoS、ACL）的动态下发。支持基于端口粒度的 dot1X、MAC 认证和混合认证；支持基于 VLANIF 接口粒度的 Portal 认证。 | E5: 57 | G5: =F5*E5 -> 0
A6: 计算机网络 | B6: 万兆光模块 | D6: 光模块-SFP+-10G-单模模块(1310nm,10km,LC) | E6: 8 | G6: =F6*E6 -> 0
A7: 计算机网络 | B7: 千兆光模块 | D7: 光模块-SFP-GE-单模模块(1310nm,10km,LC) | E7: =E5*4 -> 228 | G7: =F7*E7 -> 0
A8: 计算机网络 | B8: 24口配线架 | D8: 24口六类网络配线架；标准19英寸机架式安装，高度：1U； | E8: 120 | G8: =F8*E8 -> 0
A9: 计算机网络 | B9: 理线器 | D9: 标准19英寸机架式安装，高度：1U； 理线档位：上下各24档，带有贯穿孔，支持前后走线和多余线缆的存放； | E9: =E8+E4+E5 -> 179 | G9: =F9*E9 -> 0
A10: 计算机网络 | B10: 网络模块 | D10: 网络/电话，非屏蔽数据信息模块 | E10: =E11*2+E12 -> 2614 | G10: =F10*E10 -> 0
A11: 计算机网络 | B11: 双口网络面板 | D11: 面板：双口86型面板； 颜色：白色 | E11: 1057 | G11: =F11*E11 -> 0
A12: 计算机网络 | B12: 单口网络面板 | D12: 面板：单口86型面板； 颜色：白色 | E12: 500 | G12: =F12*E12 -> 0
A13: 计算机网络 | B13: 六类跳线 5米 | D13: 六类非屏蔽跳线5米 导体规格：多股绞合，软圆铜线，4对； 屏蔽方式: UTP； 护套材料：PVC，护套外径：6.0±0.3mm； | E13: =E10*2-E26 -> 4808 | G13: =F13*E13 -> 0
A14: 计算机网络 | B14: 六类跳线标签 | D14: 六类跳线标签 | E14: =E13 -> 4808 | G14: =F14*E14 -> 0
A15: 计算机网络 | B15: 光纤跳线 10米 | D15: 电信级LC-LC单模双芯，低烟无卤环保光纤线，10米 | E15: =E4*2 -> 4 | G15: =F15*E15 -> 0
A16: 计算机网络 | B16: 光纤跳线 3米 | D16: 电信级LC-LC单模双芯，低烟无卤环保光纤线，3米 | E16: =E7 -> 228 | G16: =F16*E16 -> 0
A17: 计算机网络 | B17: 光纤跳线标签 | D17: 光纤跳线标签 | E17: =(E16+E15)*2 -> 464 | G17: =F17*E17 -> 0
A18: 计算机网络 | B18: 六类非屏蔽双绞线 | D18: 六类4对非屏蔽低烟无卤电缆 | E18: =ROUND(2614*80,) -> 209120 | G18: =F18*E18 -> 0
A19: 计算机网络 | B19: 24芯光纤 | D19: 24芯单模光纤 | E19: =12*200 -> 2400 | G19: =F19*E19 -> 0
A20: 计算机网络 | B20: 24芯光纤配线架 | D20: 24芯光纤配线架 | E20: 10 | G20: =F20*E20 -> 0
A21: 计算机网络 | B21: 48芯光纤配线架 | D21: 安装方式：19″机架式安装； 含48芯LC耦合器和尾纤，耦合器和尾纤 | E21: 1 | G21: =F21*E21 -> 0
A22: 计算机网络 | B22: 96芯光纤配线架 | D22: 安装方式：19″机架式安装； 含96芯LC耦合器和尾纤，耦合器和尾纤 | E22: 3 | G22: =F22*E22 -> 0
A23: 计算机网络 | B23: 50对电缆 | D23: HYA 50×2×0.4 | E23: =9*150 -> 1350 | G23: =F23*E23 -> 0
A24: 计算机网络 | B24: 100对电缆 | D24: HYA 100×2×0.4 | E24: =2*150 -> 300 | G24: =F24*E24 -> 0
A25: 计算机网络 | B25: 110配线架 | D25: 标准19英寸机架式安装，高度：1U； 规格：100对，配20个5对连接块； | E25: 17 | G25: =F25*E25 -> 0
A26: 计算机网络 | B26: RJ45转RJ11线 | D26: RJ45转RJ11跳线6米 屏蔽方式: U/UTP；导体规格：1对； | E26: 420 | G26: =F26*E26 -> 0
A27: 计算机网络 | B27: RJ45转鸭嘴跳线 | D27: RJ45转鸭嘴跳线3米 屏蔽方式: U/UTP；导体规格：1对； | E27: 420 | G27: =F27*E27 -> 0
A28: 计算机网络 | B28: JDG25管 | D28: JDG25管 | E28: =2614*20 -> 52280 | G28: =F28*E28 -> 0
A29: 计算机网络 | B29: 镀锌线槽 | D29: 镀锌线槽，规格200mm*100mm，厚度1.5mm， | E29: =3*200+6*150 -> 1500 | G29: =F29*E29 -> 0
A30: 计算机网络 | B30: 布管布线辅材 | D30: 底盒、直通、三通、杯梳，直角弯头、码钉、扎带、电工胶布等 | E30: 1 | G30: =F30*E30 -> 0
A31: 业务运行设备 | B31: 取号机 | D31: 1. 触摸屏：32寸电容式触摸屏； 2. 显示器：32寸工业液晶显示器；显示尺寸： 32寸；屏幕比例：16:9；分辨率：1920*1080；刷新率：60Hz； 亮度：350cd/m2；水平可视角度：160度；垂直可视角度：160度；支持32位色显示; 3. 机 柜：机柜采用优质冷扎钢板/进口杜邦金属烤漆/功放/喇叭/网络接口/并可根据用户要求更改颜色和丝印图标; ▲4. 工控主机：≥4核国产处理器，主频≥2.3GHz；内存：≥4G ；硬盘：≥120G SSD 固态硬盘； 5. 热敏打印机(纸宽80MM*80MM)，打印速度大于80MM/秒。 6. 内置功放，喇叭；双声道立体电子音效，环绕功效、防磁设计； 7. 集成二代身份证阅读器，支持刷身份证取号功能；符合公安部 GA450标准规范，具有中国公共安全产品认证证书； 8.集成二维码扫描仪，支持扫码取号功能； 9.集成人脸识别摄像头，自然光和近红外光识别； 10.支持身份证、社保卡、外国人永久居住证等刷卡取号 | E31: 11 | G31: =F31*E31 -> 0
A32: 业务运行设备 | B32: 综合显示屏 | D32: 高清显示：屏体采用工业级液晶面板，全新A规面板，全视角显示，上下左右178度无失真。色彩饱和度更高，色彩增添技术动态调节色彩平衡，使图像更具有层次感，色泽更亮丽，细节更清晰 设计简约：超薄液晶外壳带钢化玻璃防护，防划防撞，塑胶边框与后壳，主动散热，超薄式的外观设计，整机更加美观，内置内磁式高保真喇叭 ▲尺寸 55英寸，液晶屏（A规），横屏竖屏均可 显示区域 1209.6(H)×680.4(V)mm 分辨率： 1920×1080 亮度： 350cd/m² 对比度 1200:1 频率 60HZ 色域 60% 可视角度 89/89/89/89(CR≥10) 使用寿命 >50000H 主机：CPU：核心数≥4核，主频≥1.9GHz，运行内存：≥4G ,存储内存：≥ 32GB。 | E32: 29 | G32: =F32*E32 -> 0
A33: 业务运行设备 | B33: 公共广播控制主机 | D33: 1.统一管理系统内所有音频终端，包括寻呼话筒、对讲终端、广播终端和消防接口设备。 2.编程定时任务，支持定时音乐文件播放方案，支持编程多套定时方案，支持任意选配执行终端。 3.支持终端自定义设置音乐、对讲、广播、消防等数字音量。 4.支持系统日志记录，支持服务器运行状态图形式实时显示。 5.支持通过手机APP管控广播系统。 6.处理器性能等同或优于四核。 7.内置≥6个USB接口，≥1个MIC IN接口，≥1个LINE OUT接口；≥1个HDMI接口，≥1个COM接口,≥1个VGA输出接口。 | E33: 1 | G33: =F33*E33 -> 0 | H33: 1F机房
A34: 业务运行设备 | B34: 广播寻呼话筒 | D34: 1.采用话筒桌面式设计，带有显示屏，带触摸控制功能；显示屏自带数字键、功能键，支持通过触摸呼叫广播，支持呼叫分区及多个分区，呼叫全区广播；可支持≥10个按键自定义一键呼叫广播功能。 2.内置≥1路网络硬件音频解码模块，具有≥1路RJ45网络接口，≥100Mbps传输速率。 3.支持监听任意终端功能，内置≥2W全频扬声器，实现双向通话和网络监听。 4.具有≥1路音频线路输入接口，支持采集播放功能；具有≥1路音频线路输出接口，可外接功率放大器。 5.支持直接操作呼叫或对讲任意终端，支持通过话筒广播呼叫功能，广播延时≤100ms。 6.支持多种呼叫策略，包括无响应转移、占线转移、关机转移，支持自定义接听提示音，支持转移时间、无人接听时间、呼叫等待时间自定义。 7.具有≥1个3.5耳机接口、≥1路3.5话筒输入接口。 8.具有≥1路短路输出接口、≥1路短路输入接口。 | E34: 1 | G34: =F34*E34 -> 0
A35: 业务运行设备 | B35: 广播叫号终端 | D35: 1.采用话筒桌面式设计，带有显示屏，带触摸控制功能；显示屏自带数字键、功能键，支持通过触摸呼叫广播，支持呼叫分区及多个分区，呼叫全区广播；可支持≥10个按键自定义一键呼叫广播功能。 2.内置≥1路网络硬件音频解码模块，具有≥1路RJ45网络接口，≥100Mbps传输速率。 3.支持监听任意终端功能，内置≥2W全频扬声器，实现双向通话和网络监听。 4.具有≥1路音频线路输入接口，支持采集播放功能；具有≥1路音频线路输出接口，可外接功率放大器。 5.支持直接操作呼叫或对讲任意终端，支持通过话筒广播呼叫功能，广播延时≤100ms。 6.支持多种呼叫策略，包括无响应转移、占线转移、关机转移，支持自定义接听提示音，支持转移时间、无人接听时间、呼叫等待时间自定义。 7.具有≥1个3.5耳机接口、≥1路3.5话筒输入接口。 8.具有≥1路短路输出接口、≥1路短路输入接口。 | E35: 9 | G35: =F35*E35 -> 0 | H35: 每层楼弱电间
A36: 业务运行设备 | B36: 广播功放 | D36: 1.设备采用标准≥19英寸机架设计，带有LCD显示屏。 2.内置≥1路网络硬件音频解码模块。 3.支持≥1路线路输入和≥1路话筒输入接口，可独立调节音量。 4.支持高低音调节电位器控制。 5.具有≥1路EMC输入接口，具有最高优先级。 6.具有≥1路音频输出接口。 7.具有≥1路三线制强切输出接口，无需强切电源。 8.集成数字功放，功率≥120W；支持定压方式输出。 9.支持通过后台软件对终端进行远程固件升级。 10.具有≥1路RJ45网络接口，≥100Mbps传输速率。 | E36: 9 | G36: =F36*E36 -> 0 | H36: 每层楼弱电间
A37: 业务运行设备 | B37: 天花喇叭 | D37: 1．额定功率（100V）：12.5W,25W 2．额定功率（70V）：6.2W,12.5W 3．灵敏度：91dB±3dB | E37: 51 | G37: =F37*E37 -> 0
A38: 业务运行设备 | B38: 音柱 | D38: 1．额定功率（100V）：12.5W,25W 2．额定功率（70V）：6.2W,12.5W 3．灵敏度：91dB±3dB | E38: 2 | G38: =F38*E38 -> 0
A39: 业务运行设备 | B39: 音频连接线 | D39: RVV2*1.5，米，黑色 | E39: 3300 | G39: =F39*E39 -> 0
A40: 业务运行设备 | B40: 喇叭线（室内） | D40: 1.8米音频连接线：3.5（耳机插头）*1,双莲花（RCA）*1,线径：0.3mm | E40: 4 | G40: =F40*E40 -> 0
...

Sheet 硬件及基础软件集成
A1: 类别 | B1: 名称 | C1: 描述 | D1: 数量（项） | E1: 单价（元） | F1: 合计（元）
A2: 系统集成 | B2: 硬件及基础软件系统集成费用（含零星开槽、开洞等工程） | C2: 安装调试 | D2: 1 | F2: =E2*D2 -> 0
A3: 系统集成费用合计： | F3: =SUM(F2) -> 0

Sheet 系统开发
A1: 应用系统 | B1: 子系统名称 | C1: 子系统模块 | D1: 具体模块描述 | E1: 数量（项） | F1: 单价(元) | G1: 小计(元)
A2: 一件事专区建设 | B2: 一件事专区 | C2: 按区划选择 | D2: 专区首页增加区划选择器，支持选择斗门区。通过选择斗门区，展示对应区划的专区内容。并可生成斗门区一件事专区链接提供给政务服务网斗门区节点配置。 | E2: 1 | G2: =E2*F2 -> 0
B3: 一件事专区管理 | C3: 列表优化 | D3: 一级主题分类菜单树增加图标【斗】，和增加专区选择器，来选择斗门一件事专区展示斗门相关配置内容。 | E3: 1 | G3: =E3*F3 -> 0
C4: 新增主题分类 | D4: 主题分类增加所属一件事专区，支持选择该主题分类的所属专区为斗门区一件事专区。 | E4: 1 | G4: =E4*F4 -> 0
C5: 斗门一件事专区管理 | D5: 设置斗门区一件事专区配置，可在该专区配置管理斗门区的一件事分类，实现一件事主题分类的发布、下架、排序等。 | E5: 1 | G5: =E5*F5 -> 0
A6: 跨域通办专区建设 | B6: 跨域通办专区 | C6: 按区划选择 | D6: 专区首页增加区划选择器，支持选择斗门区。通过选择斗门区，展示对应区划的专区内容。并可生成斗门区跨域通办专区链接提供给政务服务网斗门区节点配置。 | E6: 1 | G6: =E6*F6 -> 0
C7: 跨域服务清单优化 | D7: 斗门跨域通办专区首页的跨域服务清单，直接获取可在斗门办理的事项、可在异地办理的斗门事项模块展示。 | E7: 1 | G7: =E7*F7 -> 0
C8: 可在斗门办理的异地事项 | D8: 获取斗门跨域通办专区，可在斗门办理的异地事项，包含全程网办、异地代收事项。事项归属地需按省、市、区选择展示。 | E8: 1 | G8: =E8*F8 -> 0
C9: 可在异地办理的斗门事项 | D9: 获取斗门跨域通办专区，可在异地办理的斗门事项，包含全程网办、异地代收事项。事项办理地需按省、市、区选择展示。 | E9: 1 | G9: =E9*F9 -> 0
B10: 跨域事项管理 | C10: 列表优化 | D10: 列表增加事项所属专区字段、查询，支持查询出斗门跨域通办专区事项。 | E10: 1 | G10: =E10*F10 -> 0
C11: 导入本地事项 | D11: 增加导入专区选择，支持选择本地事项导入到斗门区跨域通办专区进行后续配置。 | E11: 1 | G11: =E11*F11 -> 0
C12: 手动录入事项 | D12: 增加导入专区选择，支持选择录入事项导入到斗门区跨域通办专区进行后续配置。 | E12: 1 | G12: =E12*F12 -> 0
C13: 跨省事项下拉 | D13: 增加导入专区选择，支持选择跨省事项导入到斗门区跨域通办专区进行后续配置。 | E13: 1 | G13: =E13*F13 -> 0
B14: 跨域通办专区管理 | C14: 列表优化 | D14: 专区增加图标【斗】，和增加专区选择器，来选择斗门跨域专区展示斗门相关配置内容。 | E14: 1 | G14: =E14*F14 -> 0
C15: 新增专区 | D15: 1、专区配置增加所属专区，支持配为斗门区跨域通办专区。 2、设置斗门区跨域专区，可在该专区配置管理斗门区的专区内容，如banner或专区名称等。 | E15: 1 | G15: =E15*F15 -> 0
A16: 助残专区建设 | B16: 助残专区 | C16: 专区查询 | D16: 1、支持按事项名称模糊查询。 2、支持按部门选择查询。 | E16: 1 | G16: =E16*F16 -> 0
C17: 事项清单 | D17: 展示事项名称、事项类型、实施部门，支持点击办事指南查询事项指南；点击立即办理前往申办。 | E17: 1 | G17: =E17*F17 -> 0
B18: 事项进驻配置管理 | C18: 列表优化 | D18: 列表查询展示：增加行政区划、组织机构的列表字段和列表查询。支持选择展示斗门区事项进驻清单。 | E18: 1 | G18: =E18*F18 -> 0
C19: 新增进驻清单 | D19: 进驻清单增加所属行政区划、组织机构字段填写。支持新增斗门区的进驻清单。 | E19: 1 | G19: =E19*F19 -> 0
C20: 助残专区清单管理 | D20: 设置一个特殊的进驻清单，可在该清单内管理助残专区的事项，实现事项的发布、下架、排序等。 | E20: 1 | G20: =E20*F20 -> 0
A21: 系统开发费用合计： | G21: =SUM(G2:G20) -> 0

Sheet (建设期+质保期)通讯链路和云资源租赁
A1: 类别 | B1: 名称 | C1: 具体功能描述 | D1: 数量 | E1: 租赁月数 | F1: 单价（元） | G1: 小计（元） | H1: 备注
A2: 租赁费用 | B2: 视频接入专线 | C2: 上行速率:100M，下行速率:2M(支持同时调阅12路视频) | D2: 1条 | E2: 15 | G2: =E2*F2/12 -> 0
B3: 国产化虚拟主机 | C3: 32核CPU、64G内存、100G SSD系统盘+200G SSD数据盘 | D3: 1台 | E3: 15 | G3: =E3*F3/12 -> 0
B4: 国产化虚拟主机 | C4: 8核CPU、16G内存、100G SSD系统盘+200G SSD数据盘 | D4: 1台 | E4: 15 | G4: =E4*F4/12 -> 0
B5: 国产化操作系统 | C5: 国产化操作系统2套 | D5: 1套 | E5: 15 | G5: =E5*F5/12 -> 0
B6: 堡垒机服务 | C6: 平台堡垒机服务，面向政务云平台提供统一身份管理和资源访问控制，保障运维操作安全，提升运维效率，含4个托管服务器。 | D6: 1项 | E6: 15 | G6: =E6*F6/12 -> 0
A7: 租赁费用合计： | G7: =SUM(G2:G6) -> 0

Sheet 智能转单服务租赁
A1: 类别 | B1: 名称 | C1: 具体功能描述 | D1: 每年费用（元） | E1: 租赁月数 | F1: 小计(元) | G1: 备注
A2: 服务租赁费用 | B2: 问政平台智能化升级服务 | C2: 含政平台智能化升级所需开发平台、智能接单、智能部署、知识库、知识图谱、自训练模型等服务 | E2: 36 | F2: =D2*36/12 -> 0
A3: 智能转单服务租赁费用合计： | F3: =SUM(F2:F2) -> 0
